BEGIN:VCALENDAR
VERSION:2.0
PRODID:spatie/icalendar-generator
DESCRIPTION:Veranstaltungen von WPK - Die Wissenschaftsjournalisten
X-WR-CALDESC:Veranstaltungen von WPK - Die Wissenschaftsjournalisten
REFRESH-INTERVAL;VALUE=DURATION:PT1440M
X-PUBLISHED-TTL:PT1440M
BEGIN:VTIMEZONE
TZID:Europe/Berlin
BEGIN:STANDARD
DTSTART:20231029T030000Z
TZOFFSETFROM:+0200
TZOFFSETTO:+0100
END:STANDARD
BEGIN:DAYLIGHT
DTSTART:20240331T020000Z
TZOFFSETFROM:+0100
TZOFFSETTO:+0200
END:DAYLIGHT
BEGIN:STANDARD
DTSTART:20241027T030000Z
TZOFFSETFROM:+0200
TZOFFSETTO:+0100
END:STANDARD
END:VTIMEZONE
BEGIN:VTIMEZONE
TZID:UTC
BEGIN:STANDARD
DTSTART:20250727T090945Z
TZOFFSETFROM:+0000
TZOFFSETTO:+0000
END:STANDARD
END:VTIMEZONE
BEGIN:VEVENT
UID:160-145
DTSTAMP:20260423T090945Z
SUMMARY:Recherche Jour Fixe: Die Recherchen und die Informationsfreiheit
LOCATION:
ORGANIZER;CN=Christian Eßer:MAILTO:christian.esser@wpk.org
DTSTART;TZID=Europe/Berlin:20240606T173000
DTEND;TZID=Europe/Berlin:20240606T183000
X-ALT-DESC;FMTTYPE=TEXT/HTML:<p>Journalisten und Bürger brauchen ungehinde
 rten Zugang zu Informationen. Dabei helfen sollen Informationsfreiheitsges
 etze\, die aber noch nicht in allen Bundesländern in Kraft sind. Jüngste
  Recherchen zu den RKI-Files oder zum Corona-Expertenrat zeigen\, dass auc
 h Anfragen nach dem Informationsfreiheitsgesetz nicht unbedingt sofort zum
  Erfolg führen.</p>\n
CATEGORIES:WPK Event
URL;VALUE=URI:https://wpk.org/mc-events/recherche-jour-fixe-die-recherchen-
 und-die-informationsfreiheit/
METHOD:PUBLISH
END:VEVENT
END:VCALENDAR