BEGIN:VCALENDAR
VERSION:2.0
PRODID:spatie/icalendar-generator
DESCRIPTION:Veranstaltungen von WPK - Die Wissenschaftsjournalisten
X-WR-CALDESC:Veranstaltungen von WPK - Die Wissenschaftsjournalisten
REFRESH-INTERVAL;VALUE=DURATION:PT1440M
X-PUBLISHED-TTL:PT1440M
BEGIN:VTIMEZONE
TZID:Europe/Berlin
BEGIN:DAYLIGHT
DTSTART:20250330T020000Z
TZOFFSETFROM:+0100
TZOFFSETTO:+0200
END:DAYLIGHT
BEGIN:STANDARD
DTSTART:20251026T030000Z
TZOFFSETFROM:+0200
TZOFFSETTO:+0100
END:STANDARD
BEGIN:DAYLIGHT
DTSTART:20260329T020000Z
TZOFFSETFROM:+0100
TZOFFSETTO:+0200
END:DAYLIGHT
END:VTIMEZONE
BEGIN:VTIMEZONE
TZID:UTC
BEGIN:STANDARD
DTSTART:20250727T090819Z
TZOFFSETFROM:+0000
TZOFFSETTO:+0000
END:STANDARD
END:VTIMEZONE
BEGIN:VEVENT
UID:209-186
DTSTAMP:20260423T090819Z
SUMMARY:KI im Wissenschafts-journalismus
LOCATION:
ORGANIZER;CN=proff:MAILTO:iris.proff@protonmail.com
DTSTART;TZID=Europe/Berlin:20251106T090000
DTEND;TZID=Europe/Berlin:20251106T180000
X-ALT-DESC;FMTTYPE=TEXT/HTML:<p>Der Einsatz von Künstlicher Intelligenz tr
 eibt zunehmend Redaktionen\, Verlage und Journalist:innen um. Dieses Semin
 ar mit Oskar Vitlif vermittelt\, wie Journalist:innen KI-Tools in der Wiss
 enschaftsberichterstattung sinnvoll nutzen können. Ihr lernt zentrale Kon
 zepte künstlicher Intelligenz kennen\, probiert Tools für Textarbeit und
  Recherche aus und entwickelt Strategien für präzises Prompting. So stä
 rkt Ihr Eure Kompetenzen im reflektierten Umgang mit KI-Technologien.</p>\
 n
CATEGORIES:WPK Event
URL;VALUE=URI:https://wpk.org/mc-events/ki-im-wissenschafts-journalismus/
METHOD:PUBLISH
END:VEVENT
END:VCALENDAR